BEGIN:VCALENDAR
VERSION:2.0
PRODID:-//LIBIDO - ECPv6.15.20//NONSGML v1.0//EN
CALSCALE:GREGORIAN
METHOD:PUBLISH
X-ORIGINAL-URL:https://www.libido-brest.com
X-WR-CALDESC:Évènements pour LIBIDO
REFRESH-INTERVAL;VALUE=DURATION:PT1H
X-Robots-Tag:noindex
X-PUBLISHED-TTL:PT1H
BEGIN:VTIMEZONE
TZID:Europe/Paris
BEGIN:DAYLIGHT
TZOFFSETFROM:+0100
TZOFFSETTO:+0200
TZNAME:CEST
DTSTART:20230326T010000
END:DAYLIGHT
BEGIN:STANDARD
TZOFFSETFROM:+0200
TZOFFSETTO:+0100
TZNAME:CET
DTSTART:20231029T010000
END:STANDARD
BEGIN:DAYLIGHT
TZOFFSETFROM:+0100
TZOFFSETTO:+0200
TZNAME:CEST
DTSTART:20240331T010000
END:DAYLIGHT
BEGIN:STANDARD
TZOFFSETFROM:+0200
TZOFFSETTO:+0100
TZNAME:CET
DTSTART:20241027T010000
END:STANDARD
BEGIN:DAYLIGHT
TZOFFSETFROM:+0100
TZOFFSETTO:+0200
TZNAME:CEST
DTSTART:20250330T010000
END:DAYLIGHT
BEGIN:STANDARD
TZOFFSETFROM:+0200
TZOFFSETTO:+0100
TZNAME:CET
DTSTART:20251026T010000
END:STANDARD
END:VTIMEZONE
BEGIN:VEVENT
DTSTART;TZID=Europe/Paris:20240523T203000
DTEND;TZID=Europe/Paris:20240523T223000
DTSTAMP:20260422T190731
CREATED:20230821T171111Z
LAST-MODIFIED:20230822T164429Z
UID:450-1716496200-1716503400@www.libido-brest.com
SUMMARY:Cabaret Grabuge
DESCRIPTION:
URL:https://www.libido-brest.com/event/cabaret-grabuge-2/
LOCATION:Grabuge\, 26\, rue de la Porte\, Brest\, 29200\, France
CATEGORIES:Spectacles
END:VEVENT
END:VCALENDAR