BEGIN:VCALENDAR
VERSION:2.0
PRODID:-//LIBIDO - ECPv6.15.20//NONSGML v1.0//EN
CALSCALE:GREGORIAN
METHOD:PUBLISH
X-WR-CALNAME:LIBIDO
X-ORIGINAL-URL:https://www.libido-brest.com
X-WR-CALDESC:Évènements pour LIBIDO
REFRESH-INTERVAL;VALUE=DURATION:PT1H
X-Robots-Tag:noindex
X-PUBLISHED-TTL:PT1H
BEGIN:VTIMEZONE
TZID:Europe/Paris
BEGIN:DAYLIGHT
TZOFFSETFROM:+0100
TZOFFSETTO:+0200
TZNAME:CEST
DTSTART:20220327T010000
END:DAYLIGHT
BEGIN:STANDARD
TZOFFSETFROM:+0200
TZOFFSETTO:+0100
TZNAME:CET
DTSTART:20221030T010000
END:STANDARD
BEGIN:DAYLIGHT
TZOFFSETFROM:+0100
TZOFFSETTO:+0200
TZNAME:CEST
DTSTART:20230326T010000
END:DAYLIGHT
BEGIN:STANDARD
TZOFFSETFROM:+0200
TZOFFSETTO:+0100
TZNAME:CET
DTSTART:20231029T010000
END:STANDARD
BEGIN:DAYLIGHT
TZOFFSETFROM:+0100
TZOFFSETTO:+0200
TZNAME:CEST
DTSTART:20240331T010000
END:DAYLIGHT
BEGIN:STANDARD
TZOFFSETFROM:+0200
TZOFFSETTO:+0100
TZNAME:CET
DTSTART:20241027T010000
END:STANDARD
END:VTIMEZONE
BEGIN:VEVENT
DTSTART;TZID=Europe/Paris:20230907T203000
DTEND;TZID=Europe/Paris:20230907T223000
DTSTAMP:20260422T184516
CREATED:20230821T171944Z
LAST-MODIFIED:20230822T164036Z
UID:463-1694118600-1694125800@www.libido-brest.com
SUMMARY:Cabaret Enracinés
DESCRIPTION:Notre Cabaret Mensuel !
URL:https://www.libido-brest.com/event/cabaret-enracines/
LOCATION:Enracinés\, 24\, rue d'Aiguillon\, Brest\, 29200\, France
CATEGORIES:Spectacles
END:VEVENT
BEGIN:VEVENT
DTSTART;TZID=Europe/Paris:20230930T203000
DTEND;TZID=Europe/Paris:20230930T223000
DTSTAMP:20260422T184516
CREATED:20230821T165742Z
LAST-MODIFIED:20231125T174814Z
UID:432-1696105800-1696113000@www.libido-brest.com
SUMMARY:Match d'Impro: Libido VS Impro and Co
DESCRIPTION:La saison est ouverte ! \n🛳 BREST vs LA ROCHELLE ⛵️\nLa saison commence avec le match retour face aux cousins charentais maritime. Une belle occasion de se remettre en jambe et en chaussettes 🧦 \nhttps://www.helloasso.com/associations/obscurs-biclou/evenements/match-dimpro-libido-vs-improandco \nPremier match de l’année ; vous nous retrouverez au Patronage Laïque du Pilier Rouge et ce pour toute la saison ! \nPAF : \n6€ en prévente \n8€ sur place
URL:https://www.libido-brest.com/event/match-dimpro/
LOCATION:Patronage Laïque du Pilier Rouge\, 2 rue de Fleurus\, Brest\, 29200\, France
CATEGORIES:Spectacles
END:VEVENT
END:VCALENDAR