BEGIN:VCALENDAR
VERSION:2.0
PRODID:-//LIBIDO - ECPv6.15.20//NONSGML v1.0//EN
CALSCALE:GREGORIAN
METHOD:PUBLISH
X-WR-CALNAME:LIBIDO
X-ORIGINAL-URL:https://www.libido-brest.com
X-WR-CALDESC:Évènements pour LIBIDO
REFRESH-INTERVAL;VALUE=DURATION:PT1H
X-Robots-Tag:noindex
X-PUBLISHED-TTL:PT1H
BEGIN:VTIMEZONE
TZID:Europe/Paris
BEGIN:DAYLIGHT
TZOFFSETFROM:+0100
TZOFFSETTO:+0200
TZNAME:CEST
DTSTART:20230326T010000
END:DAYLIGHT
BEGIN:STANDARD
TZOFFSETFROM:+0200
TZOFFSETTO:+0100
TZNAME:CET
DTSTART:20231029T010000
END:STANDARD
BEGIN:DAYLIGHT
TZOFFSETFROM:+0100
TZOFFSETTO:+0200
TZNAME:CEST
DTSTART:20240331T010000
END:DAYLIGHT
BEGIN:STANDARD
TZOFFSETFROM:+0200
TZOFFSETTO:+0100
TZNAME:CET
DTSTART:20241027T010000
END:STANDARD
BEGIN:DAYLIGHT
TZOFFSETFROM:+0100
TZOFFSETTO:+0200
TZNAME:CEST
DTSTART:20250330T010000
END:DAYLIGHT
BEGIN:STANDARD
TZOFFSETFROM:+0200
TZOFFSETTO:+0100
TZNAME:CET
DTSTART:20251026T010000
END:STANDARD
BEGIN:DAYLIGHT
TZOFFSETFROM:+0100
TZOFFSETTO:+0200
TZNAME:CEST
DTSTART:20260329T010000
END:DAYLIGHT
BEGIN:STANDARD
TZOFFSETFROM:+0200
TZOFFSETTO:+0100
TZNAME:CET
DTSTART:20261025T010000
END:STANDARD
END:VTIMEZONE
BEGIN:VEVENT
DTSTART;TZID=Europe/Paris:20240404T203000
DTEND;TZID=Europe/Paris:20240404T223000
DTSTAMP:20260422T123941
CREATED:20230821T172940Z
LAST-MODIFIED:20230822T164429Z
UID:478-1712262600-1712269800@www.libido-brest.com
SUMMARY:Cabaret Enracinés
DESCRIPTION:
URL:https://www.libido-brest.com/event/cabaret-enracines-8/
LOCATION:Enracinés\, 24\, rue d'Aiguillon\, Brest\, 29200\, France
CATEGORIES:Spectacles
END:VEVENT
BEGIN:VEVENT
DTSTART;TZID=Europe/Paris:20240418T193000
DTEND;TZID=Europe/Paris:20240418T210000
DTSTAMP:20260422T123941
CREATED:20230821T171646Z
LAST-MODIFIED:20230822T164429Z
UID:459-1713468600-1713474000@www.libido-brest.com
SUMMARY:Cabaret Beaj
DESCRIPTION:
URL:https://www.libido-brest.com/event/cabaret-beaj-4/
LOCATION:BEAJ KAFE\, 51 rue Branda\, BREST\, 29200\, France
CATEGORIES:Spectacles
END:VEVENT
BEGIN:VEVENT
DTSTART;TZID=Europe/Paris:20240502T203000
DTEND;TZID=Europe/Paris:20240502T223000
DTSTAMP:20260422T123941
CREATED:20230821T173036Z
LAST-MODIFIED:20230822T164429Z
UID:480-1714681800-1714689000@www.libido-brest.com
SUMMARY:Cabaret Enracinés
DESCRIPTION:
URL:https://www.libido-brest.com/event/cabaret-enracines-9/
LOCATION:Enracinés\, 24\, rue d'Aiguillon\, Brest\, 29200\, France
CATEGORIES:Spectacles
END:VEVENT
BEGIN:VEVENT
DTSTART;TZID=Europe/Paris:20240523T203000
DTEND;TZID=Europe/Paris:20240523T223000
DTSTAMP:20260422T123941
CREATED:20230821T171111Z
LAST-MODIFIED:20230822T164429Z
UID:450-1716496200-1716503400@www.libido-brest.com
SUMMARY:Cabaret Grabuge
DESCRIPTION:
URL:https://www.libido-brest.com/event/cabaret-grabuge-2/
LOCATION:Grabuge\, 26\, rue de la Porte\, Brest\, 29200\, France
CATEGORIES:Spectacles
END:VEVENT
BEGIN:VEVENT
DTSTART;TZID=Europe/Paris:20240601T203000
DTEND;TZID=Europe/Paris:20240601T223000
DTSTAMP:20260422T123941
CREATED:20230821T170351Z
LAST-MODIFIED:20240515T222605Z
UID:442-1717273800-1717281000@www.libido-brest.com
SUMMARY:Match d'Impro: Libido vs. Colibris de Saint-Brieuc
DESCRIPTION:🛳 BREST vs SAINT-BRIEUC ⛵️\nPour le dernier match de l’année\, la Libido reçoit les cousins briochins. Venez assister à la parade amoureuse de l’agile Colibri envers l’élégant Goëland. \nTarifs: 8€ sur place\, 6€ pré-vente à l’Escale à Manga et aux Enracinés. \n			\n\n  \n  \n  \n 
URL:https://www.libido-brest.com/event/match-dimpro-4/
LOCATION:Patronage Laïque du Pilier Rouge\, 2 rue de Fleurus\, Brest\, 29200\, France
CATEGORIES:Spectacles
END:VEVENT
BEGIN:VEVENT
DTSTART;TZID=Europe/Paris:20240606T203000
DTEND;TZID=Europe/Paris:20240606T223000
DTSTAMP:20260422T123941
CREATED:20230821T173136Z
LAST-MODIFIED:20230822T164429Z
UID:482-1717705800-1717713000@www.libido-brest.com
SUMMARY:Cabaret Enracinés
DESCRIPTION:
URL:https://www.libido-brest.com/event/cabaret-enracines-10/
LOCATION:Enracinés\, 24\, rue d'Aiguillon\, Brest\, 29200\, France
CATEGORIES:Spectacles
END:VEVENT
BEGIN:VEVENT
DTSTART;TZID=Europe/Paris:20240607T203000
DTEND;TZID=Europe/Paris:20240607T220000
DTSTAMP:20260422T123941
CREATED:20240602T155522Z
LAST-MODIFIED:20240602T155522Z
UID:543-1717792200-1717797600@www.libido-brest.com
SUMMARY:Cabaret - Blind-test
DESCRIPTION:La Libido passe le pont de l’Iroise et attache ses amarres à Loperhet. Là bas\, tu découvriras un format inédit : un savant mélange de blind test et d’improvisation !\nPour découvrir ce mix savoureux\, viens nous voir le 7 juin au Café de l’Ancre !
URL:https://www.libido-brest.com/event/cabaret-blind-test/
LOCATION:Café de l’Ancre\, 60\, Route de Kerlojean\, Loperhet\, 29470\, France
CATEGORIES:Spectacles
END:VEVENT
BEGIN:VEVENT
DTSTART;TZID=Europe/Paris:20240616T170000
DTEND;TZID=Europe/Paris:20240616T200000
DTSTAMP:20260422T123941
CREATED:20240613T231436Z
LAST-MODIFIED:20240613T231647Z
UID:551-1718557200-1718568000@www.libido-brest.com
SUMMARY:[Concept] Le salon de la Baronne
DESCRIPTION:La Baronne\, personnage emblématique de la haute société\, tient régulièrement salon dans ses appartements. Les convives aux dents longues y viennent pour impressionner leur hôte et espérer ainsi gravir les marches du grand monde.\n\n\nInvités par La Clique à Farce nous présentons ce spectacle lors du Festifarce le 16 juin à 17h\, rue Saint-Malo.\n\n\nUn spectacle créé et mis en scène par Alain Le Roux.
URL:https://www.libido-brest.com/event/concept-le-salon-de-la-baronne/
LOCATION:Vivre la Rue\, 17\, rue Saint-Malo\, Brest\, 29200\, France
CATEGORIES:Spectacles
END:VEVENT
BEGIN:VEVENT
DTSTART;TZID=Europe/Paris:20240620T193000
DTEND;TZID=Europe/Paris:20240620T210000
DTSTAMP:20260422T123941
CREATED:20230821T171749Z
LAST-MODIFIED:20230822T164429Z
UID:461-1718911800-1718917200@www.libido-brest.com
SUMMARY:Cabaret Beaj
DESCRIPTION:
URL:https://www.libido-brest.com/event/cabaret-beaj-5/
LOCATION:BEAJ KAFE\, 51 rue Branda\, BREST\, 29200\, France
CATEGORIES:Spectacles
END:VEVENT
BEGIN:VEVENT
DTSTART;TZID=Europe/Paris:20240704T203000
DTEND;TZID=Europe/Paris:20240704T220000
DTSTAMP:20260422T123941
CREATED:20240613T231931Z
LAST-MODIFIED:20240613T231931Z
UID:555-1720125000-1720130400@www.libido-brest.com
SUMMARY:Cabaret Enracinés
DESCRIPTION:
URL:https://www.libido-brest.com/event/cabaret-enracines-11/
LOCATION:Enracinés\, 24\, rue d'Aiguillon\, Brest\, 29200\, France
CATEGORIES:Spectacles
END:VEVENT
BEGIN:VEVENT
DTSTART;TZID=Europe/Paris:20240707T173000
DTEND;TZID=Europe/Paris:20240707T190000
DTSTAMP:20260422T123941
CREATED:20240702T185553Z
LAST-MODIFIED:20240702T185553Z
UID:561-1720373400-1720378800@www.libido-brest.com
SUMMARY:Cabaret en presqu'île de Crozon
DESCRIPTION:Pour le dernier cabaret officiel de la saison\, la Libido s’en vient à Rosnoën en chair… et en os ! Le Bistr’Os nous accueille pour une série d’impr’os rafraîchissantes !
URL:https://www.libido-brest.com/event/cabaret-en-presquile-de-crozon/
LOCATION:Bistr’Os\, 5\, place de l'Église\, Rosnoën\, 29590\, France
CATEGORIES:Spectacles
END:VEVENT
BEGIN:VEVENT
DTSTART;TZID=Europe/Paris:20240905T203000
DTEND;TZID=Europe/Paris:20240905T223000
DTSTAMP:20260422T123941
CREATED:20240902T214924Z
LAST-MODIFIED:20240902T214924Z
UID:565-1725568200-1725575400@www.libido-brest.com
SUMMARY:Cabaret Enracinés
DESCRIPTION:
URL:https://www.libido-brest.com/event/cabaret-enracines-12/
LOCATION:Enracinés\, 24\, rue d'Aiguillon\, Brest\, 29200\, France
CATEGORIES:Spectacles
END:VEVENT
BEGIN:VEVENT
DTSTART;TZID=Europe/Paris:20241003T203000
DTEND;TZID=Europe/Paris:20241003T220000
DTSTAMP:20260422T123941
CREATED:20240915T131322Z
LAST-MODIFIED:20240915T131322Z
UID:568-1727987400-1727992800@www.libido-brest.com
SUMMARY:Cabaret Enracinés
DESCRIPTION:
URL:https://www.libido-brest.com/event/cabaret-enracines-13/
LOCATION:Enracinés\, 24\, rue d'Aiguillon\, Brest\, 29200\, France
CATEGORIES:Spectacles
END:VEVENT
BEGIN:VEVENT
DTSTART;TZID=Europe/Paris:20241012T203000
DTEND;TZID=Europe/Paris:20241012T230000
DTSTAMP:20260422T123941
CREATED:20240915T131647Z
LAST-MODIFIED:20241003T215238Z
UID:570-1728765000-1728774000@www.libido-brest.com
SUMMARY:Match - Libido vs Drim Tim de Morlaix
DESCRIPTION:🛳 BREST vs MORLAIX ⛵️\nPour le premier match de la saison 2024\, la Libido reçoit la famille de Morlaix. Venez assister à une réunion de famille improvisée\, sous forme de match survolté !
URL:https://www.libido-brest.com/event/match-libido-vs-drim-tim-de-morlaix/
LOCATION:Patronage Laïque du Pilier Rouge\, 2 rue de Fleurus\, Brest\, 29200\, France
CATEGORIES:Spectacles
END:VEVENT
BEGIN:VEVENT
DTSTART;TZID=Europe/Paris:20241017T200000
DTEND;TZID=Europe/Paris:20241017T220000
DTSTAMP:20260422T123941
CREATED:20241003T215738Z
LAST-MODIFIED:20241003T215738Z
UID:576-1729195200-1729202400@www.libido-brest.com
SUMMARY:Libifarce avec la Clique à Farce
DESCRIPTION:Les deux troupes brestoises se mélangent pour cette date inédite et exclusive  !
URL:https://www.libido-brest.com/event/libifarce-avec-la-clique-a-farce/
LOCATION:Espace Leo Ferré\, 1 rue de Quercy\, Brest\, 29200\, France
CATEGORIES:Spectacles
END:VEVENT
BEGIN:VEVENT
DTSTART;TZID=Europe/Paris:20241024T190000
DTEND;TZID=Europe/Paris:20241024T203000
DTSTAMP:20260422T123941
CREATED:20241003T215948Z
LAST-MODIFIED:20241003T215948Z
UID:578-1729796400-1729801800@www.libido-brest.com
SUMMARY:Cabaret Beaj
DESCRIPTION:
URL:https://www.libido-brest.com/event/cabaret-beaj-6/
LOCATION:BEAJ KAFE\, 51 rue Branda\, BREST\, 29200\, France
CATEGORIES:Spectacles
END:VEVENT
BEGIN:VEVENT
DTSTART;TZID=Europe/Paris:20241107T203000
DTEND;TZID=Europe/Paris:20241107T220000
DTSTAMP:20260422T123941
CREATED:20241023T171257Z
LAST-MODIFIED:20241023T171257Z
UID:589-1731011400-1731016800@www.libido-brest.com
SUMMARY:Cabaret aux Enracinés
DESCRIPTION:
URL:https://www.libido-brest.com/event/cabaret-aux-enracines/
LOCATION:Enracinés\, 24\, rue d'Aiguillon\, Brest\, 29200\, France
CATEGORIES:Spectacles
END:VEVENT
BEGIN:VEVENT
DTSTART;TZID=Europe/Paris:20241123T203000
DTEND;TZID=Europe/Paris:20241123T230000
DTSTAMP:20260422T123941
CREATED:20241017T095930Z
LAST-MODIFIED:20241020T100937Z
UID:581-1732393800-1732402800@www.libido-brest.com
SUMMARY:PUNCH CLUB : Bretagne vs Québec
DESCRIPTION:  \nLe Punch Club c’est les joueurs des plus grandes ligues d’impro du Québec qui s’affrontent dans un match sans règles\, dans l’arène la plus compétitive du monde de l’impro. La formule classique est 3 contre 3. \nComme tous les ans\, l’équipe vient en Europe pour une tournée saisonnière. Cette année\, c’est à Brest que les cousins du Québec pose ses valises. \n🛳 BRETAGNE vs QUÉBEC ⛵️ \nLe Punch Club c’est les joueurs des plus grandes ligues d’impro du Québec qui s’affrontent dans un match sans règles\, dans l’arène la plus compétitive du monde de l’impro. La formule classique est 3 contre 3. \nComme tous les ans\, l’équipe vient en Europe pour une tournée saisonnière. Cette année\, c’est à Brest que les cousins du Québec pose ses valises. \nL’enjeu demeure toutefois le même : gagner la faveur du public ! Pas de règles\, tous les coups sont permis. C’est la street impro. \nPréventes à l’Escale à Manga et aux Enracinés \nhttps://www.helloasso.com/associations/obscurs-biclou/evenements/punch-club-bretagne-vs-quebec
URL:https://www.libido-brest.com/event/punch-club-bretagne-vs-quebec/
LOCATION:Patronage Laïque du Pilier Rouge\, 2 rue de Fleurus\, Brest\, 29200\, France
CATEGORIES:Spectacles
END:VEVENT
BEGIN:VEVENT
DTSTART;TZID=Europe/Paris:20241128T203000
DTEND;TZID=Europe/Paris:20241128T220000
DTSTAMP:20260422T123941
CREATED:20241109T161147Z
LAST-MODIFIED:20241109T161147Z
UID:593-1732825800-1732831200@www.libido-brest.com
SUMMARY:Cabaret au Grabuge
DESCRIPTION:
URL:https://www.libido-brest.com/event/cabaret-au-grabuge-2/
LOCATION:Grabuge\, 26\, rue de la Porte\, Brest\, 29200\, France
CATEGORIES:Spectacles
END:VEVENT
BEGIN:VEVENT
DTSTART;TZID=Europe/Paris:20241205T203000
DTEND;TZID=Europe/Paris:20241205T220000
DTSTAMP:20260422T123941
CREATED:20241109T161525Z
LAST-MODIFIED:20241109T161525Z
UID:595-1733430600-1733436000@www.libido-brest.com
SUMMARY:Cabaret aux Enracinés
DESCRIPTION:
URL:https://www.libido-brest.com/event/cabaret-aux-enracines-2/
LOCATION:Enracinés\, 24\, rue d'Aiguillon\, Brest\, 29200\, France
CATEGORIES:Spectacles
END:VEVENT
BEGIN:VEVENT
DTSTART;TZID=Europe/Paris:20241219T193000
DTEND;TZID=Europe/Paris:20241219T210000
DTSTAMP:20260422T123941
CREATED:20241109T161645Z
LAST-MODIFIED:20241109T161745Z
UID:597-1734636600-1734642000@www.libido-brest.com
SUMMARY:Cabaret de Noël au Beaj Kafé
DESCRIPTION:
URL:https://www.libido-brest.com/event/cabaret-de-noel-au-beaj-kafe/
LOCATION:BEAJ KAFE\, 51 rue Branda\, BREST\, 29200\, France
CATEGORIES:Spectacles
END:VEVENT
BEGIN:VEVENT
DTSTART;TZID=Europe/Paris:20250109T203000
DTEND;TZID=Europe/Paris:20250109T223000
DTSTAMP:20260422T123941
CREATED:20241221T172519Z
LAST-MODIFIED:20241221T172519Z
UID:608-1736454600-1736461800@www.libido-brest.com
SUMMARY:Cabaret aux Enracinés
DESCRIPTION:
URL:https://www.libido-brest.com/event/cabaret-aux-enracines-3/
LOCATION:Enracinés\, 24\, rue d'Aiguillon\, Brest\, 29200\, France
CATEGORIES:Spectacles
END:VEVENT
BEGIN:VEVENT
DTSTART;TZID=Europe/Paris:20250118T203000
DTEND;TZID=Europe/Paris:20250118T230000
DTSTAMP:20260422T123941
CREATED:20241221T172728Z
LAST-MODIFIED:20241221T173257Z
UID:610-1737232200-1737241200@www.libido-brest.com
SUMMARY:Match - GIGN de Guidel vs Libido
DESCRIPTION:BREST vs GUIDEL\nPour le deuxième match de la saison 2024\, la Libido reçoit la famille de Guidel.\nVenez assister à une réunion de famille improvisée\, sous forme de match survolté !
URL:https://www.libido-brest.com/event/match-gign-de-guidel-vs-libido/
LOCATION:Patronage Laïque du Pilier Rouge\, 2 rue de Fleurus\, Brest\, 29200\, France
CATEGORIES:Spectacles
ATTACH;FMTTYPE=image/jpeg:https://www.libido-brest.com/wp-content/uploads/2024/12/468664335_945824337608279_9211636867734905978_n.jpg
END:VEVENT
BEGIN:VEVENT
DTSTART;TZID=Europe/Paris:20250220T203000
DTEND;TZID=Europe/Paris:20250220T220000
DTSTAMP:20260422T123941
CREATED:20250126T215331Z
LAST-MODIFIED:20250126T215613Z
UID:618-1740083400-1740088800@www.libido-brest.com
SUMMARY:[Festival] L'heure des impros
DESCRIPTION:Sous la houlette de deux (presque) très sérieux journalistes nos comédiens vont improviser une actualité absurde et (presque) imaginaire.
URL:https://www.libido-brest.com/event/lheure-des-impros/
LOCATION:Enracinés\, 24\, rue d'Aiguillon\, Brest\, 29200\, France
CATEGORIES:Spectacles
END:VEVENT
BEGIN:VEVENT
DTSTART;TZID=Europe/Paris:20250221T203000
DTEND;TZID=Europe/Paris:20250221T220000
DTSTAMP:20260422T123941
CREATED:20250126T215535Z
LAST-MODIFIED:20250126T215632Z
UID:620-1740169800-1740175200@www.libido-brest.com
SUMMARY:[Festival] Cabaret des nouveaux
DESCRIPTION:Comme chaque année les nouvelles recrues de la Libido foulent les planches pour la première fois lors d’un cabaret qui leur est dédié. Venez les encourager nombreux!
URL:https://www.libido-brest.com/event/cabaret-des-nouveaux/
LOCATION:École Guérin\, Place Guérin\, Brest\, 29200\, France
CATEGORIES:Spectacles
END:VEVENT
BEGIN:VEVENT
DTSTART;TZID=Europe/Paris:20250222T200000
DTEND;TZID=Europe/Paris:20250222T213000
DTSTAMP:20260422T123941
CREATED:20250126T215842Z
LAST-MODIFIED:20250222T120221Z
UID:624-1740254400-1740259800@www.libido-brest.com
SUMMARY:[Festival] Odyssée improvisée
DESCRIPTION:Les comédiennes et comédiens se jetteront littéralement à l’eau pour vous faire vivre une épopée à couper le souffle. Du jamais vu qui promet d’être grandiose. \n			\n\n 
URL:https://www.libido-brest.com/event/festival-odyssee-improvisee/
LOCATION:Piscine Foch\, 25\, avenue du Maréchal Foch\, Brest\, 29200\, France
CATEGORIES:Spectacles
END:VEVENT
BEGIN:VEVENT
DTSTART;TZID=Europe/Paris:20250223T183000
DTEND;TZID=Europe/Paris:20250223T183000
DTSTAMP:20260422T123941
CREATED:20250126T220738Z
LAST-MODIFIED:20250126T221003Z
UID:629-1740335400-1740335400@www.libido-brest.com
SUMMARY:[Festival] Au coin du feu
DESCRIPTION:Dans le cadre intimiste d’une soirée au bord de l’âtre les comédiennes et comédiens vont faire revivre leurs souvenirs improvisés…
URL:https://www.libido-brest.com/event/au-coin-du-feu/
LOCATION:Au Coin d’la Rue\, 12\, rue Saint-Malo\, Brest\, 29200\, France
CATEGORIES:Spectacles
END:VEVENT
BEGIN:VEVENT
DTSTART;TZID=Europe/Paris:20250227T203000
DTEND;TZID=Europe/Paris:20250227T220000
DTSTAMP:20260422T123941
CREATED:20250126T221129Z
LAST-MODIFIED:20250126T221129Z
UID:634-1740688200-1740693600@www.libido-brest.com
SUMMARY:[Festival] Petits meurtres et faits divers
DESCRIPTION:Tel un Cluedo grandeur nature\, l’histoire improvisée mettra en scène des personnages truculents confrontés à un mystère. Mais saurez vous confondre le coupable?
URL:https://www.libido-brest.com/event/festival-petits-meurtres-et-faits-divers/
LOCATION:Grabuge\, 26\, rue de la Porte\, Brest\, 29200\, France
CATEGORIES:Spectacles
END:VEVENT
BEGIN:VEVENT
DTSTART;TZID=Europe/Paris:20250228T203000
DTEND;TZID=Europe/Paris:20250228T220000
DTSTAMP:20260422T123941
CREATED:20250126T221249Z
LAST-MODIFIED:20250126T221650Z
UID:636-1740774600-1740780000@www.libido-brest.com
SUMMARY:[Festival] Tétraptyque
DESCRIPTION:La libido reçoit trois troupes invitées; avec des comédiennes et comédiens de la Libido ils vont mélanger leurs talents. Chaque équipe disposera de vingt minutes qu’elle découpera à sa guise pour vous raconter une histoire improvisée.
URL:https://www.libido-brest.com/event/festival-tetraptyque/
LOCATION:Centre Social de Bellevue\, 1\, rue Pierre Trépos\, Brest\, 29200\, France
CATEGORIES:Spectacles
END:VEVENT
BEGIN:VEVENT
DTSTART;TZID=Europe/Paris:20250301T203000
DTEND;TZID=Europe/Paris:20250301T230000
DTSTAMP:20260422T123941
CREATED:20250126T221617Z
LAST-MODIFIED:20250126T221617Z
UID:638-1740861000-1740870000@www.libido-brest.com
SUMMARY:[Festival] Tournoi de matchs: LIBIDO vs LES PIRES (Lorient) vs FREEPOULES (Rennes) vs COLIBRIS (Saint-Brieuc)
DESCRIPTION:Brest reçoit Saint-Brieuc\, Lorient et Rennes pour un tournoi 100% beurre salé. Faites chauffer les chaussettes! (lancer de boutou coat interdit!)
URL:https://www.libido-brest.com/event/festival-tournoi-de-matchs-libido-vs-les-pires-lorient-vs-freepoules-rennes-vs-colibris-saint-brieuc/
LOCATION:Patronage Laïque du Pilier Rouge\, 2 rue de Fleurus\, Brest\, 29200\, France
CATEGORIES:Spectacles
END:VEVENT
END:VCALENDAR